BEGIN:VCALENDAR
VERSION:2.0
PRODID:-//LCVPC Resource Matrix - ECPv6.15.20//NONSGML v1.0//EN
CALSCALE:GREGORIAN
METHOD:PUBLISH
X-WR-CALNAME:LCVPC Resource Matrix
X-ORIGINAL-URL:https://violencepreventionlc.org
X-WR-CALDESC:Events for LCVPC Resource Matrix
REFRESH-INTERVAL;VALUE=DURATION:PT1H
X-Robots-Tag:noindex
X-PUBLISHED-TTL:PT1H
BEGIN:VTIMEZONE
TZID:America/Los_Angeles
BEGIN:DAYLIGHT
TZOFFSETFROM:-0800
TZOFFSETTO:-0700
TZNAME:PDT
DTSTART:20250309T100000
END:DAYLIGHT
BEGIN:STANDARD
TZOFFSETFROM:-0700
TZOFFSETTO:-0800
TZNAME:PST
DTSTART:20251102T090000
END:STANDARD
BEGIN:DAYLIGHT
TZOFFSETFROM:-0800
TZOFFSETTO:-0700
TZNAME:PDT
DTSTART:20260308T100000
END:DAYLIGHT
BEGIN:STANDARD
TZOFFSETFROM:-0700
TZOFFSETTO:-0800
TZNAME:PST
DTSTART:20261101T090000
END:STANDARD
BEGIN:DAYLIGHT
TZOFFSETFROM:-0800
TZOFFSETTO:-0700
TZNAME:PDT
DTSTART:20270314T100000
END:DAYLIGHT
BEGIN:STANDARD
TZOFFSETFROM:-0700
TZOFFSETTO:-0800
TZNAME:PST
DTSTART:20271107T090000
END:STANDARD
END:VTIMEZONE
BEGIN:VEVENT
DTSTART;TZID=America/Los_Angeles:20260410T110000
DTEND;TZID=America/Los_Angeles:20260410T153000
DTSTAMP:20260425T110936
CREATED:20251226T215833Z
LAST-MODIFIED:20260303T192618Z
UID:10000465-1775818800-1775835000@violencepreventionlc.org
SUMMARY:Community Sharing Food Pantry
DESCRIPTION:Bilingual Food Pantry \n\nWe encourage you to call ahead to confirm hours of operation.\nTo pick up groceries from a food pantry\, you must meet the USDA Emergency Food Assistance Program Requirements. However\, you will not be asked to provide identification\, proof of income or a Social Security number when you visit.\nYou may be asked to provide your name\, address and the number of people in your household. If you don’t have a permanent residence\, you can still get food.\nIf you’re unable to leave your home\, you can send someone to pick up food for you by having them bring an Authorized Representative Form; download the form in English or Spanish. Some pantries have bilingual volunteers or staff. You can filter your search for bilingual locations using the food finder.\nYou can expect to receive a 3- to 5-day supply of nutritionally balanced groceries per visit. How often you can visit varies by pantry. Please bring plenty of bags or boxes for the food you’ll receive.\n\nBus Routes: 98\n541-942-2176 \nMondays: 1:30pm–6:00pm\nTuesdays–Fridays: 11:00am–3:30pm
URL:https://violencepreventionlc.org/event/community-sharing-food-pantry-feb-tue-4/2026-04-10/
LOCATION:1440 Birch Ave\, 1440 Birch Ave\, Cottage Grove\, 97424\, United States
END:VEVENT
BEGIN:VEVENT
DTSTART;TZID=America/Los_Angeles:20260410T120000
DTEND;TZID=America/Los_Angeles:20260410T130000
DTSTAMP:20260425T110936
CREATED:20260311T231059Z
LAST-MODIFIED:20260423T210520Z
UID:10025257-1775822400-1775826000@violencepreventionlc.org
SUMMARY:Helping Hands Coalition (HHC) Meal Site
DESCRIPTION:Meal Site in Lane County \n\nHours are subject to change due to holidays\, weather or other reasons. If you see information that needs updating here\, please contact us.\nWe encourage you to call ahead to confirm hours of operation.\nTo pick up groceries from a food pantry\, you must meet the USDA Emergency Food Assistance Program Requirements. However\, you will not be asked to provide identification\, proof of income or a Social Security number when you visit.\nYou may be asked to provide your name\, address and the number of people in your household. If you don’t have a permanent residence\, you can still get food.\nIf you’re unable to leave your home\, you can send someone to pick up food for you by having them bring an Authorized Representative Form; download the form in English or Spanish. Some pantries have bilingual volunteers or staff. You can filter your search for bilingual locations using the food finder.\nYou can expect to receive a 3- to 5-day supply of nutritionally balanced groceries per visit. How often you can visit varies by pantry. Please bring plenty of bags or boxes for the food you’ll receive.\nThere are designated food pantries and other services for college students that are not income based\, such as the UO Student Food Pantry and the Lane Titan Pantry and Closet.\n\nAvailable for all ages \n4590 U.S. 101\, Florence\, OR 97439 | Get Directions\nBus Routes: LinkLane\, Rhody Express \nMonday\, Wednesday\, Friday 12:00pm-1:00pm
URL:https://violencepreventionlc.org/event/helping-hands-coalition-hhc-meal-site/2026-04-10/
LOCATION:4590 U.S. 101\, 4590 U.S. 101\, Florence\, OR\, 97439\, United States
END:VEVENT
BEGIN:VEVENT
DTSTART;TZID=America/Los_Angeles:20260410T130000
DTEND;TZID=America/Los_Angeles:20260410T150000
DTSTAMP:20260425T110936
CREATED:20251226T211348Z
LAST-MODIFIED:20260303T205804Z
UID:10002068-1775826000-1775833200@violencepreventionlc.org
SUMMARY:Food For Lane County Mobile Pantry (Sheldon Community Center)
DESCRIPTION:Through this pop-up style market\, we distribute a variety of pantry staples\, proteins\, dairy items and fresh produce. A typical visit to the Mobile Pantry will provide a household with a three- to five-day supply of nutritionally balanced groceries. \n\nWe encourage you to call ahead to confirm hours of operation.\nTo pick up groceries from a food pantry\, you must meet the USDA Emergency Food Assistance Program Requirements. However\, you will not be asked to provide identification\, proof of income or a Social Security number when you visit.\nYou may be asked to provide your name\, address and the number of people in your household. If you don’t have a permanent residence\, you can still get food.\nIf you’re unable to leave your home\, you can send someone to pick up food for you by having them bring an Authorized Representative Form; download the form in English or Spanish. Some pantries have bilingual volunteers or staff. You can filter your search for bilingual locations using the food finder.\nYou can expect to receive a 3- to 5-day supply of nutritionally balanced groceries per visit. How often you can visit varies by pantry. Please bring plenty of bags or boxes for the food you’ll receive.\n\nBus Routes: 67 \n2nd Fridays 1:00pm–3:00pm \nBilingual Pantry
URL:https://violencepreventionlc.org/event/food-for-lane-county-mobile-pantry-sheldon-community-center-3/2026-04-10/
LOCATION:Sheldon Community Center\, 2445 Willakenzie Rd\, Eugene\, 97401\, United States
END:VEVENT
BEGIN:VEVENT
DTSTART;TZID=America/Los_Angeles:20260410T163000
DTEND;TZID=America/Los_Angeles:20260410T173000
DTSTAMP:20260425T110936
CREATED:20260311T233054Z
LAST-MODIFIED:20260422T165849Z
UID:10019918-1775838600-1775842200@violencepreventionlc.org
SUMMARY:Neighbors Feeding Neighbors Meal Site
DESCRIPTION:Meal Site in Lane County \n\nHours are subject to change due to holidays\, weather or other reasons. If you see information that needs updating here\, please contact us.\nWe encourage you to call ahead to confirm hours of operation.\nTo pick up groceries from a food pantry\, you must meet the USDA Emergency Food Assistance Program Requirements. However\, you will not be asked to provide identification\, proof of income or a Social Security number when you visit.\nYou may be asked to provide your name\, address and the number of people in your household. If you don’t have a permanent residence\, you can still get food.\nIf you’re unable to leave your home\, you can send someone to pick up food for you by having them bring an Authorized Representative Form; download the form in English or Spanish. Some pantries have bilingual volunteers or staff. You can filter your search for bilingual locations using the food finder.\nYou can expect to receive a 3- to 5-day supply of nutritionally balanced groceries per visit. How often you can visit varies by pantry. Please bring plenty of bags or boxes for the food you’ll receive.\nThere are designated food pantries and other services for college students that are not income based\, such as the UO Student Food Pantry and the Lane Titan Pantry and Closet.\n\nAvailable for all ages \nWest 5th Avenue & Washington Street\, Eugene\, OR 97402 | Get Directions\nBus Routes: 40\, 51\, 52 \n9:30-10:30am Wednesday\, Thursday\, Friday\, Saturday AND any holidays on which FFLC is closed.
URL:https://violencepreventionlc.org/event/neighbors-feeding-neighbors-meal-site/2026-04-10/
LOCATION:West 5th Avenue & Washington Street\, West 5th Avenue & Washington Street\, Eugene\, 97402\, United States
END:VEVENT
BEGIN:VEVENT
DTSTART;TZID=America/Los_Angeles:20260410T170000
DTEND;TZID=America/Los_Angeles:20260410T210000
DTSTAMP:20260425T110936
CREATED:20260311T235625Z
LAST-MODIFIED:20260423T200648Z
UID:10023115-1775840400-1775854800@violencepreventionlc.org
SUMMARY:Hosea Youth Services Meal Site (16-24 yrs)
DESCRIPTION:Meal Site in Lane County \n\nHours are subject to change due to holidays\, weather or other reasons. If you see information that needs updating here\, please contact us.\nWe encourage you to call ahead to confirm hours of operation.\nTo pick up groceries from a food pantry\, you must meet the USDA Emergency Food Assistance Program Requirements. However\, you will not be asked to provide identification\, proof of income or a Social Security number when you visit.\nYou may be asked to provide your name\, address and the number of people in your household. If you don’t have a permanent residence\, you can still get food.\nIf you’re unable to leave your home\, you can send someone to pick up food for you by having them bring an Authorized Representative Form; download the form in English or Spanish. Some pantries have bilingual volunteers or staff. You can filter your search for bilingual locations using the food finder.\nYou can expect to receive a 3- to 5-day supply of nutritionally balanced groceries per visit. How often you can visit varies by pantry. Please bring plenty of bags or boxes for the food you’ll receive.\nThere are designated food pantries and other services for college students that are not income based\, such as the UO Student Food Pantry and the Lane Titan Pantry and Closet.\n\nMeal Sites\n834 Monroe St\, Eugene\, OR 97402 | Get Directions\nBus Routes: EmX \nMonday-Thursday: 12:00pm-2:00pm and 5:00pm-6:00pm\nFridays: 10:00am-2:00pm\n(16-24 years old)
URL:https://violencepreventionlc.org/event/hosea-youth-services-meal-site-16-24-yrs-3/2026-04-10/
LOCATION:834 Monroe St\, 834 Monroe St\, Eugene\, 97402\, United States
END:VEVENT
BEGIN:VEVENT
DTSTART;TZID=America/Los_Angeles:20260410T183000
DTEND;TZID=America/Los_Angeles:20260410T193000
DTSTAMP:20260425T110936
CREATED:20260311T233953Z
LAST-MODIFIED:20260422T170255Z
UID:10022050-1775845800-1775849400@violencepreventionlc.org
SUMMARY:Hearth and Table Meal Site (college students only)
DESCRIPTION:Meal Site in Lane County \n\nHours are subject to change due to holidays\, weather or other reasons. If you see information that needs updating here\, please contact us.\nWe encourage you to call ahead to confirm hours of operation.\nTo pick up groceries from a food pantry\, you must meet the USDA Emergency Food Assistance Program Requirements. However\, you will not be asked to provide identification\, proof of income or a Social Security number when you visit.\nYou may be asked to provide your name\, address and the number of people in your household. If you don’t have a permanent residence\, you can still get food.\nIf you’re unable to leave your home\, you can send someone to pick up food for you by having them bring an Authorized Representative Form; download the form in English or Spanish. Some pantries have bilingual volunteers or staff. You can filter your search for bilingual locations using the food finder.\nYou can expect to receive a 3- to 5-day supply of nutritionally balanced groceries per visit. How often you can visit varies by pantry. Please bring plenty of bags or boxes for the food you’ll receive.\nThere are designated food pantries and other services for college students that are not income based\, such as the UO Student Food Pantry and the Lane Titan Pantry and Closet.\n\nCollege students only \n1857 Potter Street\, Eugene\, OR 97403 | Get Directions\nBus Routes: 28 \nThursdays 6:30-7:30pm
URL:https://violencepreventionlc.org/event/hearth-and-table-meal-site-college-students-only/2026-04-10/
LOCATION:1857 Potter Street\, 1857 Potter Street\, Eugene\, OR\, 97403\, United States
END:VEVENT
END:VCALENDAR