BEGIN:VCALENDAR
VERSION:2.0
PRODID:-//LCVPC Resource Matrix - ECPv6.15.20//NONSGML v1.0//EN
CALSCALE:GREGORIAN
METHOD:PUBLISH
X-WR-CALNAME:LCVPC Resource Matrix
X-ORIGINAL-URL:https://violencepreventionlc.org
X-WR-CALDESC:Events for LCVPC Resource Matrix
REFRESH-INTERVAL;VALUE=DURATION:PT1H
X-Robots-Tag:noindex
X-PUBLISHED-TTL:PT1H
BEGIN:VTIMEZONE
TZID:America/Los_Angeles
BEGIN:DAYLIGHT
TZOFFSETFROM:-0800
TZOFFSETTO:-0700
TZNAME:PDT
DTSTART:20250309T100000
END:DAYLIGHT
BEGIN:STANDARD
TZOFFSETFROM:-0700
TZOFFSETTO:-0800
TZNAME:PST
DTSTART:20251102T090000
END:STANDARD
BEGIN:DAYLIGHT
TZOFFSETFROM:-0800
TZOFFSETTO:-0700
TZNAME:PDT
DTSTART:20260308T100000
END:DAYLIGHT
BEGIN:STANDARD
TZOFFSETFROM:-0700
TZOFFSETTO:-0800
TZNAME:PST
DTSTART:20261101T090000
END:STANDARD
BEGIN:DAYLIGHT
TZOFFSETFROM:-0800
TZOFFSETTO:-0700
TZNAME:PDT
DTSTART:20270314T100000
END:DAYLIGHT
BEGIN:STANDARD
TZOFFSETFROM:-0700
TZOFFSETTO:-0800
TZNAME:PST
DTSTART:20271107T090000
END:STANDARD
END:VTIMEZONE
BEGIN:VEVENT
DTSTART;TZID=America/Los_Angeles:20260412T000000
DTEND;TZID=America/Los_Angeles:20260412T004500
DTSTAMP:20260425T110929
CREATED:20260311T232156Z
LAST-MODIFIED:20260423T211510Z
UID:10027118-1775952000-1775954700@violencepreventionlc.org
SUMMARY:Free People! Meal Site PM
DESCRIPTION:Important to Know\n\n\n\n\n\n\nHours are subject to change due to holidays\, weather or other reasons. If you see information that needs updating here\, please contact us.\nWe encourage you to call ahead to confirm hours of operation.\nTo pick up groceries from a food pantry\, you must meet the USDA Emergency Food Assistance Program Requirements. However\, you will not be asked to provide identification\, proof of income or a Social Security number when you visit.\nYou may be asked to provide your name\, address and the number of people in your household. If you don’t have a permanent residence\, you can still get food.\nIf you’re unable to leave your home\, you can send someone to pick up food for you by having them bring an Authorized Representative Form; download the form in English or Spanish. Some pantries have bilingual volunteers or staff. You can filter your search for bilingual locations using the food finder.\nYou can expect to receive a 3- to 5-day supply of nutritionally balanced groceries per visit. How often you can visit varies by pantry. Please bring plenty of bags or boxes for the food you’ll receive.\nThere are designated food pantries and other services for college students that are not income based\, such as the UO Student Food Pantry and the Lane Titan Pantry and Closet.\n\nWashington Jefferson Park\, Eugene\, OR 97402 \nBus Routes: 51\, 52 \nSunday 9:15-10:00am; 5:00-5:45pm \nAvailable for all ages
URL:https://violencepreventionlc.org/event/free-people-meal-site-pm/2026-04-12/
LOCATION:Washington Jefferson Park\, 150 Jefferson Street\, Eugene\, 97402\, United States
END:VEVENT
BEGIN:VEVENT
DTSTART;TZID=America/Los_Angeles:20260412T153000
DTEND;TZID=America/Los_Angeles:20260412T163000
DTSTAMP:20260425T110929
CREATED:20260311T231626Z
LAST-MODIFIED:20260423T211000Z
UID:10026317-1776007800-1776011400@violencepreventionlc.org
SUMMARY:Crossfire Field of Dreams Meal Site
DESCRIPTION:Meal Site in Lane County \n\nHours are subject to change due to holidays\, weather or other reasons. If you see information that needs updating here\, please contact us.\nWe encourage you to call ahead to confirm hours of operation.\nTo pick up groceries from a food pantry\, you must meet the USDA Emergency Food Assistance Program Requirements. However\, you will not be asked to provide identification\, proof of income or a Social Security number when you visit.\nYou may be asked to provide your name\, address and the number of people in your household. If you don’t have a permanent residence\, you can still get food.\nIf you’re unable to leave your home\, you can send someone to pick up food for you by having them bring an Authorized Representative Form; download the form in English or Spanish. Some pantries have bilingual volunteers or staff. You can filter your search for bilingual locations using the food finder.\nYou can expect to receive a 3- to 5-day supply of nutritionally balanced groceries per visit. How often you can visit varies by pantry. Please bring plenty of bags or boxes for the food you’ll receive.\nThere are designated food pantries and other services for college students that are not income based\, such as the UO Student Food Pantry and the Lane Titan Pantry and Closet.\n\nAvailable for all ages \n942 28th St\, Springfield\, OR 97477 | Get Directions\nBus Routes: 18 \nSundays 8:30am
URL:https://violencepreventionlc.org/event/crossfire-field-of-dreams-meal-site/2026-04-12/
LOCATION:942 28th St\, 942 28th St\, Springfield\, 97477\, United States
END:VEVENT
BEGIN:VEVENT
DTSTART;TZID=America/Los_Angeles:20260412T161500
DTEND;TZID=America/Los_Angeles:20260412T170000
DTSTAMP:20260425T110929
CREATED:20260311T232050Z
LAST-MODIFIED:20260423T211353Z
UID:10026851-1776010500-1776013200@violencepreventionlc.org
SUMMARY:Free People! Meal Site
DESCRIPTION:Important to Know\n\n\n\n\n\n\nHours are subject to change due to holidays\, weather or other reasons. If you see information that needs updating here\, please contact us.\nWe encourage you to call ahead to confirm hours of operation.\nTo pick up groceries from a food pantry\, you must meet the USDA Emergency Food Assistance Program Requirements. However\, you will not be asked to provide identification\, proof of income or a Social Security number when you visit.\nYou may be asked to provide your name\, address and the number of people in your household. If you don’t have a permanent residence\, you can still get food.\nIf you’re unable to leave your home\, you can send someone to pick up food for you by having them bring an Authorized Representative Form; download the form in English or Spanish. Some pantries have bilingual volunteers or staff. You can filter your search for bilingual locations using the food finder.\nYou can expect to receive a 3- to 5-day supply of nutritionally balanced groceries per visit. How often you can visit varies by pantry. Please bring plenty of bags or boxes for the food you’ll receive.\nThere are designated food pantries and other services for college students that are not income based\, such as the UO Student Food Pantry and the Lane Titan Pantry and Closet.\n\nWashington Jefferson Park\, Eugene\, OR 97402 \nBus Routes: 51\, 52 \nSunday 9:15-10:00am; 5:00-5:45pm \nAvailable for all ages
URL:https://violencepreventionlc.org/event/free-people-meal-site/2026-04-12/
LOCATION:Washington Jefferson Park\, 150 Jefferson Street\, Eugene\, 97402\, United States
END:VEVENT
BEGIN:VEVENT
DTSTART;TZID=America/Los_Angeles:20260412T170000
DTEND;TZID=America/Los_Angeles:20260412T183000
DTSTAMP:20260425T110929
CREATED:20260311T230458Z
LAST-MODIFIED:20260423T211203Z
UID:10026584-1776013200-1776018600@violencepreventionlc.org
SUMMARY:Fern Ridge Community Services Meal Site
DESCRIPTION:Meal Site in Lane County \n\nHours are subject to change due to holidays\, weather or other reasons. If you see information that needs updating here\, please contact us.\nWe encourage you to call ahead to confirm hours of operation.\nTo pick up groceries from a food pantry\, you must meet the USDA Emergency Food Assistance Program Requirements. However\, you will not be asked to provide identification\, proof of income or a Social Security number when you visit.\nYou may be asked to provide your name\, address and the number of people in your household. If you don’t have a permanent residence\, you can still get food.\nIf you’re unable to leave your home\, you can send someone to pick up food for you by having them bring an Authorized Representative Form; download the form in English or Spanish. Some pantries have bilingual volunteers or staff. You can filter your search for bilingual locations using the food finder.\nYou can expect to receive a 3- to 5-day supply of nutritionally balanced groceries per visit. How often you can visit varies by pantry. Please bring plenty of bags or boxes for the food you’ll receive.\nThere are designated food pantries and other services for college students that are not income based\, such as the UO Student Food Pantry and the Lane Titan Pantry and Closet.\n\nAvailable for all ages \n25133 E Broadway Ave\, Veneta\, OR 97487 | Get Directions\nBus Routes: 93 \n  \nSunday 5:00pm-6:30pm
URL:https://violencepreventionlc.org/event/fern-ridge-community-services-meal-site/2026-04-12/
LOCATION:25133 E Broadway Ave\, 25133 E Broadway Ave\, Veneta\, Oregon\, 97487
END:VEVENT
END:VCALENDAR